BEGIN:VCALENDAR
VERSION:2.0
PRODID:-//Front Range Pediatric Therapies - ECPv6.15.20//NONSGML v1.0//EN
CALSCALE:GREGORIAN
METHOD:PUBLISH
X-WR-CALNAME:Front Range Pediatric Therapies
X-ORIGINAL-URL:https://frontrangepeds.com
X-WR-CALDESC:Events for Front Range Pediatric Therapies
REFRESH-INTERVAL;VALUE=DURATION:PT1H
X-Robots-Tag:noindex
X-PUBLISHED-TTL:PT1H
BEGIN:VTIMEZONE
TZID:America/Denver
BEGIN:DAYLIGHT
TZOFFSETFROM:-0700
TZOFFSETTO:-0600
TZNAME:MDT
DTSTART:20250309T090000
END:DAYLIGHT
BEGIN:STANDARD
TZOFFSETFROM:-0600
TZOFFSETTO:-0700
TZNAME:MST
DTSTART:20251102T080000
END:STANDARD
BEGIN:DAYLIGHT
TZOFFSETFROM:-0700
TZOFFSETTO:-0600
TZNAME:MDT
DTSTART:20260308T090000
END:DAYLIGHT
BEGIN:STANDARD
TZOFFSETFROM:-0600
TZOFFSETTO:-0700
TZNAME:MST
DTSTART:20261101T080000
END:STANDARD
BEGIN:DAYLIGHT
TZOFFSETFROM:-0700
TZOFFSETTO:-0600
TZNAME:MDT
DTSTART:20270314T090000
END:DAYLIGHT
BEGIN:STANDARD
TZOFFSETFROM:-0600
TZOFFSETTO:-0700
TZNAME:MST
DTSTART:20271107T080000
END:STANDARD
END:VTIMEZONE
BEGIN:VEVENT
DTSTART;TZID=America/Denver:20260418T090000
DTEND;TZID=America/Denver:20260418T110000
DTSTAMP:20260422T025723
CREATED:20260407T033129Z
LAST-MODIFIED:20260407T033151Z
UID:2064-1776502800-1776510000@frontrangepeds.com
SUMMARY:🏎️CSDSA Young Adult Go-Karting event
DESCRIPTION:
URL:https://frontrangepeds.com/event/csdsa-young-adult-go-karting-event/
LOCATION:Overdrive Raceway\, 196 Spectrum Lp\, Colorado Springs\, CO 80921
CATEGORIES:Colorado Springs,Upcoming Inclusive Events Calendar
END:VEVENT
BEGIN:VEVENT
DTSTART;TZID=America/Denver:20260418T110000
DTEND;TZID=America/Denver:20260418T130000
DTSTAMP:20260422T025723
CREATED:20260407T031751Z
LAST-MODIFIED:20260409T221654Z
UID:2058-1776510000-1776517200@frontrangepeds.com
SUMMARY:🐶Therapy Dog Meet & Greet
DESCRIPTION:
URL:https://frontrangepeds.com/event/therapy-dog-meet-greet/
LOCATION:Autism Community Store\, 14095 E Exposition Ave\, Aurora\, CO
CATEGORIES:Denver,Upcoming Inclusive Events Calendar
END:VEVENT
END:VCALENDAR