BEGIN:VCALENDAR
VERSION:2.0
PRODID:-//Front Range Pediatric Therapies - ECPv6.15.20//NONSGML v1.0//EN
CALSCALE:GREGORIAN
METHOD:PUBLISH
X-WR-CALNAME:Front Range Pediatric Therapies
X-ORIGINAL-URL:https://frontrangepeds.com
X-WR-CALDESC:Events for Front Range Pediatric Therapies
REFRESH-INTERVAL;VALUE=DURATION:PT1H
X-Robots-Tag:noindex
X-PUBLISHED-TTL:PT1H
BEGIN:VTIMEZONE
TZID:America/Denver
BEGIN:DAYLIGHT
TZOFFSETFROM:-0700
TZOFFSETTO:-0600
TZNAME:MDT
DTSTART:20250309T090000
END:DAYLIGHT
BEGIN:STANDARD
TZOFFSETFROM:-0600
TZOFFSETTO:-0700
TZNAME:MST
DTSTART:20251102T080000
END:STANDARD
BEGIN:DAYLIGHT
TZOFFSETFROM:-0700
TZOFFSETTO:-0600
TZNAME:MDT
DTSTART:20260308T090000
END:DAYLIGHT
BEGIN:STANDARD
TZOFFSETFROM:-0600
TZOFFSETTO:-0700
TZNAME:MST
DTSTART:20261101T080000
END:STANDARD
BEGIN:DAYLIGHT
TZOFFSETFROM:-0700
TZOFFSETTO:-0600
TZNAME:MDT
DTSTART:20270314T090000
END:DAYLIGHT
BEGIN:STANDARD
TZOFFSETFROM:-0600
TZOFFSETTO:-0700
TZNAME:MST
DTSTART:20271107T080000
END:STANDARD
END:VTIMEZONE
BEGIN:VEVENT
DTSTART;TZID=America/Denver:20260424T103000
DTEND;TZID=America/Denver:20260424T110000
DTSTAMP:20260424T035755
CREATED:20260111T012726Z
LAST-MODIFIED:20260304T173515Z
UID:1948-1777026600-1777028400@frontrangepeds.com
SUMMARY:📖 Pikes Peak Libraries: Sensory Storytime
DESCRIPTION:
URL:https://frontrangepeds.com/event/sensory-storytime-pikes-peak-libraries-9/
LOCATION:PPLD Penrose Library\, 20 N Cascade Ave\, Colorado Springs\, CO\, 80903
CATEGORIES:Colorado Springs,Upcoming Inclusive Events Calendar
END:VEVENT
END:VCALENDAR