BEGIN:VCALENDAR
VERSION:2.0
PRODID:-//Front Range Pediatric Therapies - ECPv6.15.20//NONSGML v1.0//EN
CALSCALE:GREGORIAN
METHOD:PUBLISH
X-WR-CALNAME:Front Range Pediatric Therapies
X-ORIGINAL-URL:https://frontrangepeds.com
X-WR-CALDESC:Events for Front Range Pediatric Therapies
REFRESH-INTERVAL;VALUE=DURATION:PT1H
X-Robots-Tag:noindex
X-PUBLISHED-TTL:PT1H
BEGIN:VTIMEZONE
TZID:America/Denver
BEGIN:DAYLIGHT
TZOFFSETFROM:-0700
TZOFFSETTO:-0600
TZNAME:MDT
DTSTART:20240310T090000
END:DAYLIGHT
BEGIN:STANDARD
TZOFFSETFROM:-0600
TZOFFSETTO:-0700
TZNAME:MST
DTSTART:20241103T080000
END:STANDARD
BEGIN:DAYLIGHT
TZOFFSETFROM:-0700
TZOFFSETTO:-0600
TZNAME:MDT
DTSTART:20250309T090000
END:DAYLIGHT
BEGIN:STANDARD
TZOFFSETFROM:-0600
TZOFFSETTO:-0700
TZNAME:MST
DTSTART:20251102T080000
END:STANDARD
BEGIN:DAYLIGHT
TZOFFSETFROM:-0700
TZOFFSETTO:-0600
TZNAME:MDT
DTSTART:20260308T090000
END:DAYLIGHT
BEGIN:STANDARD
TZOFFSETFROM:-0600
TZOFFSETTO:-0700
TZNAME:MST
DTSTART:20261101T080000
END:STANDARD
END:VTIMEZONE
BEGIN:VEVENT
DTSTART;TZID=America/Denver:20251213T100000
DTEND;TZID=America/Denver:20251213T140000
DTSTAMP:20260421T101901
CREATED:20251119T161011Z
LAST-MODIFIED:20251119T161011Z
UID:1847-1765620000-1765634400@frontrangepeds.com
SUMMARY:Accessible & Low-Sensory Santa Experience
DESCRIPTION:
URL:https://frontrangepeds.com/event/accessible-low-sensory-santa-experience/
LOCATION:Tupper’s Team Office\, 1193 Bergen Pkwy Suite O/P\, Evergreen\, CO 80439
CATEGORIES:Denver,Upcoming Inclusive Events Calendar
END:VEVENT
BEGIN:VEVENT
DTSTART;TZID=America/Denver:20251213T130000
DTEND;TZID=America/Denver:20251213T160000
DTSTAMP:20260421T101901
CREATED:20251027T200032Z
LAST-MODIFIED:20251027T200032Z
UID:1794-1765630800-1765641600@frontrangepeds.com
SUMMARY:Holiday with Horses
DESCRIPTION:
URL:https://frontrangepeds.com/event/holiday-with-horses/
LOCATION:Affinity Ranch\, 11892 Hilltop Rd\, Parker\, CO 80134-6019\, United States
CATEGORIES:Denver,Upcoming Inclusive Events Calendar
END:VEVENT
BEGIN:VEVENT
DTSTART;TZID=America/Denver:20251213T180000
DTEND;TZID=America/Denver:20251213T190000
DTSTAMP:20260421T101901
CREATED:20251119T165907Z
LAST-MODIFIED:20251119T165907Z
UID:1869-1765648800-1765652400@frontrangepeds.com
SUMMARY:Spectrum Parent Adventures
DESCRIPTION:Join us as we share the challenges and triumphs of being a caretaker of someone on the Autism spectrum or with SPD. In person and live on ZOOM options available
URL:https://frontrangepeds.com/event/spectrum-parent-adventures/
LOCATION:Autism Community Store\, 14095 E Exposition Ave\, Aurora\, CO
CATEGORIES:Colorado Springs,Denver,Upcoming Inclusive Events Calendar
END:VEVENT
BEGIN:VEVENT
DTSTART;TZID=America/Denver:20251213T180000
DTEND;TZID=America/Denver:20251213T200000
DTSTAMP:20260421T101901
CREATED:20250923T031714Z
LAST-MODIFIED:20250923T031714Z
UID:1740-1765648800-1765656000@frontrangepeds.com
SUMMARY:Spectrum Parent Adventures—An autism and SDP parent support group
DESCRIPTION:
URL:https://frontrangepeds.com/event/spectrum-parent-adventures-an-autism-and-sdp-parent-support-group-3/
LOCATION:Autism Community Store\, 14095 E Exposition Ave\, Aurora\, CO
CATEGORIES:Denver,Upcoming Inclusive Events Calendar
END:VEVENT
BEGIN:VEVENT
DTSTART;TZID=America/Denver:20251213T180000
DTEND;TZID=America/Denver:20251213T200000
DTSTAMP:20260421T101901
CREATED:20251106T171441Z
LAST-MODIFIED:20251119T052815Z
UID:1822-1765648800-1765656000@frontrangepeds.com
SUMMARY:SPREADLIGHT Holiday Celebration (South) by ASoC
DESCRIPTION:
URL:https://frontrangepeds.com/event/spreadlight-holiday-celebration-south-by-asoc/
LOCATION:It’s a Wonderful Light\, 4820 S Picadilly Ct\, Aurora\, CO 80015-2576
CATEGORIES:Denver,Upcoming Inclusive Events Calendar
END:VEVENT
END:VCALENDAR