BEGIN:VCALENDAR
VERSION:2.0
PRODID:-//Front Range Pediatric Therapies - ECPv6.15.20//NONSGML v1.0//EN
CALSCALE:GREGORIAN
METHOD:PUBLISH
X-ORIGINAL-URL:https://frontrangepeds.com
X-WR-CALDESC:Events for Front Range Pediatric Therapies
REFRESH-INTERVAL;VALUE=DURATION:PT1H
X-Robots-Tag:noindex
X-PUBLISHED-TTL:PT1H
BEGIN:VTIMEZONE
TZID:America/Denver
BEGIN:DAYLIGHT
TZOFFSETFROM:-0700
TZOFFSETTO:-0600
TZNAME:MDT
DTSTART:20250309T090000
END:DAYLIGHT
BEGIN:STANDARD
TZOFFSETFROM:-0600
TZOFFSETTO:-0700
TZNAME:MST
DTSTART:20251102T080000
END:STANDARD
BEGIN:DAYLIGHT
TZOFFSETFROM:-0700
TZOFFSETTO:-0600
TZNAME:MDT
DTSTART:20260308T090000
END:DAYLIGHT
BEGIN:STANDARD
TZOFFSETFROM:-0600
TZOFFSETTO:-0700
TZNAME:MST
DTSTART:20261101T080000
END:STANDARD
BEGIN:DAYLIGHT
TZOFFSETFROM:-0700
TZOFFSETTO:-0600
TZNAME:MDT
DTSTART:20270314T090000
END:DAYLIGHT
BEGIN:STANDARD
TZOFFSETFROM:-0600
TZOFFSETTO:-0700
TZNAME:MST
DTSTART:20271107T080000
END:STANDARD
END:VTIMEZONE
BEGIN:VEVENT
DTSTART;VALUE=DATE:20260328
DTEND;VALUE=DATE:20260329
DTSTAMP:20260423T104832
CREATED:20260218T040202Z
LAST-MODIFIED:20260218T040202Z
UID:2022-1774656000-1774742399@frontrangepeds.com
SUMMARY:CHILL Act Colorado
DESCRIPTION:
URL:https://frontrangepeds.com/event/chill-act-colorado/
LOCATION:Colorado Springs Convention Center\, 3960 Palmer Park Blvd\, Colorado Springs\, CO 80909
CATEGORIES:Colorado Springs,Denver,Upcoming Inclusive Events Calendar
END:VEVENT
BEGIN:VEVENT
DTSTART;TZID=America/Denver:20260328T103000
DTEND;TZID=America/Denver:20260328T110000
DTSTAMP:20260423T104832
CREATED:20260111T021239Z
LAST-MODIFIED:20260304T173242Z
UID:1961-1774693800-1774695600@frontrangepeds.com
SUMMARY:📚 Lafayette Library: Sensory Storytime
DESCRIPTION:
URL:https://frontrangepeds.com/event/sensory-storytime-at-lafayette-library-3/
LOCATION:Lafayette Public Library\, 775 W. Baseline Road Lafayette\, CO
CATEGORIES:Denver,Upcoming Inclusive Events Calendar
END:VEVENT
END:VCALENDAR